BEGIN:VCALENDAR
VERSION:2.0
PRODID:-//Lofta Caffè - ECPv6.15.14//NONSGML v1.0//EN
CALSCALE:GREGORIAN
METHOD:PUBLISH
X-WR-CALNAME:Lofta Caffè
X-ORIGINAL-URL:https://lofta-caffe.com/de
X-WR-CALDESC:Veranstaltungen für Lofta Caffè
REFRESH-INTERVAL;VALUE=DURATION:PT1H
X-Robots-Tag:noindex
X-PUBLISHED-TTL:PT1H
BEGIN:VTIMEZONE
TZID:Europe/Paris
BEGIN:DAYLIGHT
TZOFFSETFROM:+0100
TZOFFSETTO:+0200
TZNAME:CEST
DTSTART:20240331T010000
END:DAYLIGHT
BEGIN:STANDARD
TZOFFSETFROM:+0200
TZOFFSETTO:+0100
TZNAME:CET
DTSTART:20241027T010000
END:STANDARD
BEGIN:DAYLIGHT
TZOFFSETFROM:+0100
TZOFFSETTO:+0200
TZNAME:CEST
DTSTART:20250330T010000
END:DAYLIGHT
BEGIN:STANDARD
TZOFFSETFROM:+0200
TZOFFSETTO:+0100
TZNAME:CET
DTSTART:20251026T010000
END:STANDARD
BEGIN:DAYLIGHT
TZOFFSETFROM:+0100
TZOFFSETTO:+0200
TZNAME:CEST
DTSTART:20260329T010000
END:DAYLIGHT
BEGIN:STANDARD
TZOFFSETFROM:+0200
TZOFFSETTO:+0100
TZNAME:CET
DTSTART:20261025T010000
END:STANDARD
END:VTIMEZONE
BEGIN:VEVENT
DTSTART;TZID=Europe/Paris:20250619T100000
DTEND;TZID=Europe/Paris:20250710T170000
DTSTAMP:20260423T111202
CREATED:20250303T180405Z
LAST-MODIFIED:20250303T180539Z
UID:2749-1750327200-1752166800@lofta-caffe.com
SUMMARY:[:sv]Ermias Ekube[:]
DESCRIPTION:Leider ist der Eintrag nur auf Svenska verfügbar.
URL:https://lofta-caffe.com/de/event/ermias-ekube/
CATEGORIES:
ATTACH;FMTTYPE=image/jpeg:https://lofta-caffe.com/wp-content/uploads/2025/03/IMG_4031-scaled.jpeg
ORGANIZER;CN="Lofta Caff%C3%A8":MAILTO:info@lofta-caffe.com
END:VEVENT
END:VCALENDAR